BEGIN:VCALENDAR
VERSION:2.0
PRODID:-//wp-events-plugin.com//7.2.3.1//EN
TZID:Europe/Berlin
X-WR-TIMEZONE:Europe/Berlin
BEGIN:VEVENT
UID:7921@se-aichhalden.de
DTSTART;TZID=Europe/Berlin:20221022T180000
DTEND;TZID=Europe/Berlin:20221022T200000
DTSTAMP:20220808T221408Z
URL:https://se-aichhalden.de/veranstaltungen/konzert-albert-frey
SUMMARY:Konzert | ALBERT FREY
DESCRIPTION:\n\n\n\nKartenbestellung für das Konzert von Albert Frey\n\nDe
 r Krankenpflegeförderverein Aichhalden lädt ein zum Konzert:\nWer?\n\nAL
 BERT FREY mit Band\n\n[learn_more caption="Erfahren Sie mehr über den Kü
 nstler"] Albert Frey ist Singer-Songwriter und Musikproduzent. Seine Liede
 r und Alben prägen eine neue deutschsprachige Musikkultur in vielen Gemei
 nden quer durch alle Konfessionen. Kunstvoll und doch nachvollziehbar brin
 gen seine Texte und Melodien ewige Wahrheiten für unsere Zeit zum Ausdruc
 k. Als Referent und Autor setzt er sich für eine ganzheitliche Spirituali
 tät ein. Er steht für einen ehrlichen Glauben\, für „Musik von der Ze
 rbrechlichkeit der Menschen und der Herrlichkeit Gottes“. Mit seiner Fra
 u\, der Sängerin und Songwriterin Andrea Adams-Frey\, lebt er auf einem P
 ferdehof im Hohenlohekreis.\n\nAuch live ist er ein Brückenbauer\, dessen
  Musik von unterschiedlichsten Gemeinden und Altergruppen geschätzt wird.
  In seinen Songs geht es um Lobpreis und Anbetung - oft in neuen und über
 raschenden Formulierungen und inneren Bildern -\, aber auch darum\, die du
 nklen Seiten unseres Lebens und unserer Welt vor Gott bringen.\n\nMit sein
 em Trio (Burkhard Mayer: drums\, Michael Fastenrath: bass) spielt er Songs
  aus seinen aktuellen CDs zum Mitsingen und Zuhören\, aber auch Klassiker
  dürfen natürlich nicht fehlen. Vielfältig und leidenschaftlich malen d
 ie drei Profi-Musiker ein akustisches Bild von der Tiefe und Weite der Lie
 be Gottes\; nachdenklich und zerbrechlich\, tiefsinnig und seelsorgerisch\
 , kantig und kämpferisch\, frei und ausgelassen\, dankbar und ehrfürchti
 g. [/learn_more]\nWann?\n\nAm Samstag\, den 22. Oktober 2022 um 18.00 Uhr 
 in der Pfarrkirche St. Michael in Aichhalden\nKartenpreise?\n\n\nIm Vorver
 kauf (mit Vorkasse) 15 € pro Person. Es werden keine weiteren Ermäßigu
 ngen gewährt. Der Vorverkauf startet am 01.08.22\; siehe unten. An der Ab
 endkasse (nur\, wenn oben noch freie Plätze angezeigt werden) mit Barzahl
 ung 18 €.\nKartenrückgabe?\n\n\nSie können Ihre bereits erworbene und 
 bezahlte Eintrittskarte bis zum 21.10.2022 zurückgeben und erstatten lass
 en. Bitte wenden Sie sich per E-Mail an kpfv-aichhalden@se-aichhalden.de u
 nd geben Sie den Namen der Person an\, die bei uns gebucht hat. Geben Sie 
 weiterhin die KARTENNUMMERN an\, die Sie erstattet haben wollen. Nach der 
 Erstattung verlieren die entsprechenden Karten Ihre Gültigkeit. Sie müss
 en die Karten nicht zurückschicken.\nKontakt zu uns?\n\nBei Fragen oder S
 chwierigkeiten bei der Buchung rufen Sie uns an: Vorstand KPFV | Frau Krah
 l | 07422 / 56 05 75\n\n\n\n&nbsp\;
ATTACH;FMTTYPE=image/jpeg:https://se-aichhalden.de/wp-content/uploads/2022
 /04/albert_frey.jpg
CATEGORIES:Konzert
LOCATION:St. Michael | Aichhalden\, Rathausstraße 2    \,  Aichhalden\, Ba
 den-Württemberg\, 78733\, Deutschland
GEO:48.267735;8.39899
X-APPLE-STRUCTURED-LOCATION;VALUE=URI;X-ADDRESS=Rathausstraße 2    \,  Aic
 hhalden\, Baden-Württemberg\, 78733\, Deutschland;X-APPLE-RADIUS=100;X-TI
 TLE=St. Michael | Aichhalden:geo:48.267735,8.39899
END:VEVENT
BEGIN:VTIMEZONE
TZID:Europe/Berlin
X-LIC-LOCATION:Europe/Berlin
BEGIN:DAYLIGHT
DTSTART:20220327T030000
TZOFFSETFROM:+0100
TZOFFSETTO:+0200
TZNAME:CEST
END:DAYLIGHT
END:VTIMEZONE
END:VCALENDAR